BEGIN:VCALENDAR
VERSION:2.0
PRODID:-//Tukios.com/
BEGIN:VEVENT
UID:bd7e42bf-4a47-4283-845c-d7937d66ec36@www.jamesandsikesfuneralhomes.com
DTSTAMP:20260426T003114Z
DTSTART:20260428T150000Z
DTEND:20260428T160000Z
SUMMARY:Graveside Service
DESCRIPTION:
URL:https://www.jamesandsikesfuneralhomes.com/obituaries/juanita-prinz
LOCATION:Lipford Cemetery 1383 Pittman Hill Road  Marianna FL 32448
GEO:30.6615036;-85.2485409
END:VEVENT
END:VCALENDAR