BEGIN:VCALENDAR
VERSION:2.0
PRODID:-//Tukios.com/
BEGIN:VEVENT
UID:e06994ab-42c4-4943-a1be-6b69259c675b@www.jamesandsikesfuneralhomes.com
DTSTAMP:20260423T165605Z
DTSTART:20260425T150000Z
DTEND:20260425T160000Z
SUMMARY:Graveside Service
DESCRIPTION:
URL:https://www.jamesandsikesfuneralhomes.com/obituaries/caroline-richards
LOCATION: 700 Timberlane Rd  Tallahassee FL 32312
GEO:30.504796;-84.2633796
END:VEVENT
END:VCALENDAR