BEGIN:VCALENDAR
VERSION:2.0
PRODID:-//Tukios.com/
BEGIN:VEVENT
UID:ff541fab-a8a4-4ba9-864a-89a7834f40d8@www.jamesandsikesfuneralhomes.com
DTSTAMP:20260421T234235Z
DTSTART:20260429T163000Z
DTEND:20260429T173000Z
SUMMARY:Graveside Service
DESCRIPTION:
URL:https://www.jamesandsikesfuneralhomes.com/obituaries/billy-doyle-bowden
LOCATION:Mt Olive Baptist Church 6045 FL-2  Bascom FL 32423
GEO:30.9744;-85.087883
END:VEVENT
END:VCALENDAR